BEGIN:VCALENDAR
VERSION:2.0
PRODID:-//Vorderpfalz - ECPv6.15.11//NONSGML v1.0//EN
CALSCALE:GREGORIAN
METHOD:PUBLISH
X-WR-CALNAME:Vorderpfalz
X-ORIGINAL-URL:https://landfrauen-pfalz.de/vorderpfalz
X-WR-CALDESC:Veranstaltungen für Vorderpfalz
REFRESH-INTERVAL;VALUE=DURATION:PT1H
X-Robots-Tag:noindex
X-PUBLISHED-TTL:PT1H
BEGIN:VTIMEZONE
TZID:Europe/Berlin
BEGIN:DAYLIGHT
TZOFFSETFROM:+0100
TZOFFSETTO:+0200
TZNAME:CEST
DTSTART:20250330T010000
END:DAYLIGHT
BEGIN:STANDARD
TZOFFSETFROM:+0200
TZOFFSETTO:+0100
TZNAME:CET
DTSTART:20251026T010000
END:STANDARD
BEGIN:DAYLIGHT
TZOFFSETFROM:+0100
TZOFFSETTO:+0200
TZNAME:CEST
DTSTART:20260329T010000
END:DAYLIGHT
BEGIN:STANDARD
TZOFFSETFROM:+0200
TZOFFSETTO:+0100
TZNAME:CET
DTSTART:20261025T010000
END:STANDARD
BEGIN:DAYLIGHT
TZOFFSETFROM:+0100
TZOFFSETTO:+0200
TZNAME:CEST
DTSTART:20270328T010000
END:DAYLIGHT
BEGIN:STANDARD
TZOFFSETFROM:+0200
TZOFFSETTO:+0100
TZNAME:CET
DTSTART:20271031T010000
END:STANDARD
END:VTIMEZONE
BEGIN:VEVENT
DTSTART;TZID=Europe/Berlin:20260521T180000
DTEND;TZID=Europe/Berlin:20260521T210000
DTSTAMP:20260425T200913
CREATED:20260214T151335Z
LAST-MODIFIED:20260214T151816Z
UID:10000005-1779386400-1779397200@landfrauen-pfalz.de
SUMMARY:STADTFÜHRUNG DEIDESHEIM
DESCRIPTION:Einblicke in Brauchtum\, Geschichte und Weinkultur \n  \nVom Geißbockbrunnen aus erkunden wir den charmanten Stadtkern mit Schloss-park\, Marktplatz und verwinkelten Gassen. Historische Gebäude und die Pfarrkirche St. Ulrich erzählen von vergangenen Jahrhunderten. Ein spritziges Getränk und die entspannte Lebensart der Cittaslow-Stadt runden das Erlebnis ab. \nGeißbockbrunnen\, Bahnhofstraße 5\, 67146 Deidesheim\nTN-Beitrag: 10 €\, Gäste 15 € (inklusive 1 Glas Sekt)\nReferent*in: Gästeführer*in aus Deidesheim\nAnmeldung: bis 01.05.2026 bei der Kreisgeschäftsstelle\, vorderpfalz@landfrauen-pfalz.de \noder via Eveeno: \nhttps://eveeno.com/168835676
URL:https://landfrauen-pfalz.de/vorderpfalz/veranstaltung/stadtfuehrung-deidesheim/
LOCATION:Geißbockbrunnen Deidesheim\, Bahnhofstraße 5\, Deidesheim\, Rheinland-Pfalz\, 67146
ATTACH;FMTTYPE=image/jpeg:https://landfrauen-pfalz.de/vorderpfalz/wp-content/uploads/sites/12/2026/02/Stadtfuehrung-Deidesheim-scaled.jpg
END:VEVENT
BEGIN:VEVENT
DTSTART;TZID=Europe/Berlin:20261016T180000
DTEND;TZID=Europe/Berlin:20261016T213000
DTSTAMP:20260425T200913
CREATED:20260214T152505Z
LAST-MODIFIED:20260214T152505Z
UID:10000006-1792173600-1792186200@landfrauen-pfalz.de
SUMMARY:LandFrauensoiree
DESCRIPTION:Ländlicher Raum im Wandel – Frauen als Motor \nInspirierende Frauen & Glücksgeheimnisse – Ein Vortrag von Susanne Ackstaller im Weingut Rösch. In gemütlicher Runde mit Pfälzer Schmankerln und feinen Weinen erleben Sie einen Abend voller Mut\, Lebensfreude und wertvoller Impulse. \nWeingut Rösch\, Dudostr. 6\, 67435 Neustadt/Duttweiler\n\n\nTN-Beitrag: 15 €\, Gäste 20 € (inkl. 1 Begrüßungssekt)\nGetränke und Essen gehen auf eigene Rechnung\nReferent*in: Susanne Ackstaller\nAnmeldung: bis 30.09.2026 bei der Kreisgeschäftsstelle\, vorderpfalz@landfrauen-pfalz.de\noder via Eveeno:\nhttps://eveeno.com/234432137
URL:https://landfrauen-pfalz.de/vorderpfalz/veranstaltung/landfrauensoiree/
LOCATION:Weingut Rösch\, Duttweiler\, Dudostraße 6\, Neustadt/Duttweiler\, 67435\, Germany
ATTACH;FMTTYPE=image/jpeg:https://landfrauen-pfalz.de/vorderpfalz/wp-content/uploads/sites/12/2026/02/LandFrauensoiree-scaled.jpg
END:VEVENT
END:VCALENDAR