BEGIN:VCALENDAR
VERSION:2.0
PRODID:-// LandFrauenverein Fußgönheim e.V. - ECPv6.15.11//NONSGML v1.0//EN
CALSCALE:GREGORIAN
METHOD:PUBLISH
X-WR-CALNAME: LandFrauenverein Fußgönheim e.V.
X-ORIGINAL-URL:https://landfrauen-pfalz.de/fussgoenheim
X-WR-CALDESC:Veranstaltungen für  LandFrauenverein Fußgönheim e.V.
REFRESH-INTERVAL;VALUE=DURATION:PT1H
X-Robots-Tag:noindex
X-PUBLISHED-TTL:PT1H
BEGIN:VTIMEZONE
TZID:Europe/Berlin
BEGIN:DAYLIGHT
TZOFFSETFROM:+0100
TZOFFSETTO:+0200
TZNAME:CEST
DTSTART:20250330T010000
END:DAYLIGHT
BEGIN:STANDARD
TZOFFSETFROM:+0200
TZOFFSETTO:+0100
TZNAME:CET
DTSTART:20251026T010000
END:STANDARD
BEGIN:DAYLIGHT
TZOFFSETFROM:+0100
TZOFFSETTO:+0200
TZNAME:CEST
DTSTART:20260329T010000
END:DAYLIGHT
BEGIN:STANDARD
TZOFFSETFROM:+0200
TZOFFSETTO:+0100
TZNAME:CET
DTSTART:20261025T010000
END:STANDARD
BEGIN:DAYLIGHT
TZOFFSETFROM:+0100
TZOFFSETTO:+0200
TZNAME:CEST
DTSTART:20270328T010000
END:DAYLIGHT
BEGIN:STANDARD
TZOFFSETFROM:+0200
TZOFFSETTO:+0100
TZNAME:CET
DTSTART:20271031T010000
END:STANDARD
END:VTIMEZONE
BEGIN:VEVENT
DTSTART;TZID=Europe/Berlin:20260425T100000
DTEND;TZID=Europe/Berlin:20260425T120000
DTSTAMP:20260424T175612
CREATED:20260419T154350Z
LAST-MODIFIED:20260419T154350Z
UID:10000016-1777111200-1777118400@landfrauen-pfalz.de
SUMMARY:Dreckwegtag 2026
DESCRIPTION:Wir engagieren uns im und für unser Dorf und alle BewohnerInnen.\nAußerdem tun wir dabei noch unserer Umwelt etwas Gutes! \nWie im letzten Jahr kooperieren die Landfrauen Fußgönheim e.V.gemeinsam mit Artenerben. Gäste sind wie immer herzlich willkommen! \nBist du auch dabei? Dann sei um 10Uhr am Treffpunkt! \nStaffiere Dich mit Greifzange\, Einmalhandschuhen\, festem Schuhwerk und wettergerechter Kleidung aus. \nWir freuen uns über eine rege Teilnahme! 🩷💚
URL:https://landfrauen-pfalz.de/fussgoenheim/veranstaltung/dreckwegtag-2026/
CATEGORIES:Umweltaktion
ATTACH;FMTTYPE=image/png:https://landfrauen-pfalz.de/fussgoenheim/wp-content/uploads/sites/108/2026/04/Dreck-weg.png
END:VEVENT
BEGIN:VEVENT
DTSTART;TZID=Europe/Berlin:20260427T183000
DTEND;TZID=Europe/Berlin:20260427T193000
DTSTAMP:20260424T175612
CREATED:20260409T144823Z
LAST-MODIFIED:20260424T044245Z
UID:10000011-1777314600-1777318200@landfrauen-pfalz.de
SUMMARY:Schnupperkurs mit Ringen
DESCRIPTION:Wir bieten einen Schnupperkurs mit Ringen an\, das Ganzkörpertraining mit Potential. \nGäste sind wie immer herzlich willkommen! Wir sind traditionell ein Frauenverein\, der auch Männer als Mitglieder hat. 😉 \nKursleitung: Astrid Herrmann \nBitte beachtet: \n\nes gibt eine Mindest- und Maximalteilnehmerzahl\nAnmeldung bitte bis 20.April 2026\nDeine Anmeldung ist mit Überweisung der Kursgebühr verbindlich\n\nAus Organisationsgründen: \n\nTeile uns mit\, ob du eigene Ringe mitbringst oder ob du Leih-Ringe benötigst.\n\nDas Trainingslevel richtet sich nach den angemeldeten TeilnehmerInnen. \nGäste sind herzlich willkommen! \n#landfrauenpower #landfrauenfussgoenheim #fussgönheim #bewegungmachtglücklich
URL:https://landfrauen-pfalz.de/fussgoenheim/veranstaltung/schnupperkurs-mit-ringen/2026-04-27/
LOCATION:Bürgerhaus Fußgönheim\, Hauptstraße 63\, Fußgönheim\, Rheinland-Pfalz\, 67136
CATEGORIES:Sport & Bewegung
ATTACH;FMTTYPE=image/png:https://landfrauen-pfalz.de/fussgoenheim/wp-content/uploads/sites/108/2026/04/Kopie-von-Braun-Beige-Modern-Sport-Training-Tipps-Instagram-Beitrag.png
END:VEVENT
BEGIN:VEVENT
DTSTART;TZID=Europe/Berlin:20260502T000000
DTEND;TZID=Europe/Berlin:20260522T235959
DTSTAMP:20260424T175612
CREATED:20260408T201921Z
LAST-MODIFIED:20260408T201921Z
UID:10000010-1777680000-1779494399@landfrauen-pfalz.de
SUMMARY:Stadtradeln 2026
DESCRIPTION:Die LandFrauen Fußgönheim e.V. sind auch im Jahr 2026 dabei. \nVom 02.Mai bis zum 22.Mai sammeln wir Radkilometer als Zeichen für Radverkehr\, Klimaschutz und Lebensqualität. \nBist du auch dabei? Dann melde dich an! \nWer keinen eigenen Account hat\, kann uns die gefahrenen Kilometer auch melden\, dann geben wir sie für dich ein! \n#stadtradeln #fussgönheim #klimaschutz #landfrauenfussgoenheim #fahrradfahrenmachtglücklich
URL:https://landfrauen-pfalz.de/fussgoenheim/veranstaltung/stadtradeln-2026/
CATEGORIES:Sport & Bewegung
ATTACH;FMTTYPE=image/jpeg:https://landfrauen-pfalz.de/fussgoenheim/wp-content/uploads/sites/108/2026/04/CC523C0F-2B84-4DDB-ACB9-E2F2106D4605.jpeg
END:VEVENT
BEGIN:VEVENT
DTSTART;TZID=Europe/Berlin:20260504T183000
DTEND;TZID=Europe/Berlin:20260504T193000
DTSTAMP:20260424T175612
CREATED:20260409T144823Z
LAST-MODIFIED:20260424T044245Z
UID:10000012-1777919400-1777923000@landfrauen-pfalz.de
SUMMARY:Schnupperkurs mit Ringen
DESCRIPTION:Wir bieten einen Schnupperkurs mit Ringen an\, das Ganzkörpertraining mit Potential. \nGäste sind wie immer herzlich willkommen! Wir sind traditionell ein Frauenverein\, der auch Männer als Mitglieder hat. 😉 \nKursleitung: Astrid Herrmann \nBitte beachtet: \n\nes gibt eine Mindest- und Maximalteilnehmerzahl\nAnmeldung bitte bis 20.April 2026\nDeine Anmeldung ist mit Überweisung der Kursgebühr verbindlich\n\nAus Organisationsgründen: \n\nTeile uns mit\, ob du eigene Ringe mitbringst oder ob du Leih-Ringe benötigst.\n\nDas Trainingslevel richtet sich nach den angemeldeten TeilnehmerInnen. \nGäste sind herzlich willkommen! \n#landfrauenpower #landfrauenfussgoenheim #fussgönheim #bewegungmachtglücklich
URL:https://landfrauen-pfalz.de/fussgoenheim/veranstaltung/schnupperkurs-mit-ringen/2026-05-04/
LOCATION:Bürgerhaus Fußgönheim\, Hauptstraße 63\, Fußgönheim\, Rheinland-Pfalz\, 67136
CATEGORIES:Sport & Bewegung
ATTACH;FMTTYPE=image/png:https://landfrauen-pfalz.de/fussgoenheim/wp-content/uploads/sites/108/2026/04/Kopie-von-Braun-Beige-Modern-Sport-Training-Tipps-Instagram-Beitrag.png
END:VEVENT
BEGIN:VEVENT
DTSTART;TZID=Europe/Berlin:20260506T190000
DTEND;TZID=Europe/Berlin:20260506T213000
DTSTAMP:20260424T175612
CREATED:20260409T154857Z
LAST-MODIFIED:20260409T154857Z
UID:10000014-1778094000-1778103000@landfrauen-pfalz.de
SUMMARY:Mitmach-Koch-WORKshop
DESCRIPTION:„Kennst du das Land\, wo die Zitronen blühen? Im dunkeln Laub die Goldorangen glühen…“ . \nItalien\, das Sehnsuchtsland von uns Deutschen\, auch in kulinarischer Hinsicht! Wir tauchen ein in die italienische Lebenskunst guten Essens und Genießens. Typische mediterrane Lebensmittel erwarten dich! \nWir bereiten sie gemeinsam in unserem Mitmachkurs\, unter Leitung von Yvonne Wolf\, zu. \nEinlass: 18.50 Uhr\nBitte Kochschürze\, Küchenmesser und Schneidbrett mitbringen. \nTeilnehmergebühr 6 € | Gäste 11 €\nKostproben und Wasser sind enthalten. \nGäste sind herzlich willkommen! \nAnmeldung bitte bis 01.05.26 per WhatsApp-Community oder per Kontaktformular.
URL:https://landfrauen-pfalz.de/fussgoenheim/veranstaltung/mitmach-koch-workshop/
LOCATION:Museumsstübchen im Schloss Fußgönheim\, Hauptstraße 67\, Fußgönheim\, Rheinland-Pfalz\, Germany
CATEGORIES:Koch-WORKshop
ATTACH;FMTTYPE=image/jpeg:https://landfrauen-pfalz.de/fussgoenheim/wp-content/uploads/sites/108/2026/04/43A269D9-C110-472D-B8AC-23BCE500214A.jpeg
END:VEVENT
BEGIN:VEVENT
DTSTART;TZID=Europe/Berlin:20260511T183000
DTEND;TZID=Europe/Berlin:20260511T193000
DTSTAMP:20260424T175612
CREATED:20260409T144823Z
LAST-MODIFIED:20260424T044245Z
UID:10000013-1778524200-1778527800@landfrauen-pfalz.de
SUMMARY:Schnupperkurs mit Ringen
DESCRIPTION:Wir bieten einen Schnupperkurs mit Ringen an\, das Ganzkörpertraining mit Potential. \nGäste sind wie immer herzlich willkommen! Wir sind traditionell ein Frauenverein\, der auch Männer als Mitglieder hat. 😉 \nKursleitung: Astrid Herrmann \nBitte beachtet: \n\nes gibt eine Mindest- und Maximalteilnehmerzahl\nAnmeldung bitte bis 20.April 2026\nDeine Anmeldung ist mit Überweisung der Kursgebühr verbindlich\n\nAus Organisationsgründen: \n\nTeile uns mit\, ob du eigene Ringe mitbringst oder ob du Leih-Ringe benötigst.\n\nDas Trainingslevel richtet sich nach den angemeldeten TeilnehmerInnen. \nGäste sind herzlich willkommen! \n#landfrauenpower #landfrauenfussgoenheim #fussgönheim #bewegungmachtglücklich
URL:https://landfrauen-pfalz.de/fussgoenheim/veranstaltung/schnupperkurs-mit-ringen/2026-05-11/
LOCATION:Bürgerhaus Fußgönheim\, Hauptstraße 63\, Fußgönheim\, Rheinland-Pfalz\, 67136
CATEGORIES:Sport & Bewegung
ATTACH;FMTTYPE=image/png:https://landfrauen-pfalz.de/fussgoenheim/wp-content/uploads/sites/108/2026/04/Kopie-von-Braun-Beige-Modern-Sport-Training-Tipps-Instagram-Beitrag.png
END:VEVENT
BEGIN:VEVENT
DTSTART;TZID=Europe/Berlin:20260520T153000
DTEND;TZID=Europe/Berlin:20260520T180000
DTSTAMP:20260424T175612
CREATED:20260412T084208Z
LAST-MODIFIED:20260412T084208Z
UID:10000015-1779291000-1779300000@landfrauen-pfalz.de
SUMMARY:Ausstellung „Was ich anhatte“
DESCRIPTION:Die Ausstellung ist eine Kooperation der Gleichstellungsbeauftragten des Landkreises Christina Koterba-Göbel\, dem Stadtmuseum\, dem Frauenbeirat und dem Verein Lila Villa. Die Wanderausstellung „Was ich anhatte“ ist initiiert von Kuratorin und Dokumentarfilmerin Beatrix Wilmes: \n*Durch sexy Kleidung provoziert?* \nEin weißblaues Flanell-Nachthemd\, ein XL-Shirt mit Disney-Motiv\, eine Bluse in Kindergröße – die Ausstellung „Was ich anhatte“ zeigt Kleidungsstücke von Frauen\, die sexuelle Gewalt erfahren haben und dokumentiert ihr Erleben. \nDie Ausstellungstexte belegen\, dass viele Betroffene nach einer Vergewaltigung mit Schuldgefühlen kämpfen\, weil andere meinen\, sie hätten die Tat durch sexy Kleidung provoziert. Aber ist das so oder ist dies schlichtweg eine Täter-Opfer-Umkehr? Wir gehen dem in dieser Ausstellung nach\, durch Betrachtung von Kleidungsstücken\, die die Geschichte von 12 mutigen Frauen erzählen. \nNach dem Ausstellungsbesuch ist noch Zeit für einen Besuch in der Eisdiele und/oder ein Spaziergang im Kurpark. So bleibt auch Raum und Zeit für den Austausch im Gespräch. \nAnreise individuell. Gerne kann die Rheinhaardtbahn genutzt oder Fahrgemeinschaften gebildet werden. \n#wasichanhatte #stadtmuseumbaddürkheim #landfrauenfussgoenheim #sexualisiertegewaltstoppen #gleichstellung
URL:https://landfrauen-pfalz.de/fussgoenheim/veranstaltung/ausstellung-was-ich-anhatte/
CATEGORIES:Ausstellung
ATTACH;FMTTYPE=image/jpeg:https://landfrauen-pfalz.de/fussgoenheim/wp-content/uploads/sites/108/2026/04/986FA1B7-62DB-47D6-947F-955933E1ADA6.jpeg
END:VEVENT
BEGIN:VEVENT
DTSTART;TZID=Europe/Berlin:20260617T143000
DTEND;TZID=Europe/Berlin:20260617T160000
DTSTAMP:20260424T175612
CREATED:20260406T180225Z
LAST-MODIFIED:20260406T180225Z
UID:10000009-1781706600-1781712000@landfrauen-pfalz.de
SUMMARY:Betriebsführung: Gläserner Globus
DESCRIPTION:Am 15.April 2026 schaut eine kleine Gruppe der Landfrauen Fußgönheim hinter die Kulissen des Globus-Supermarktes. \nEine Wiederholung dieser Veranstaltung findet am 17.Juni 2026 statt. \nFür beide Termine ist die Anmeldung bereits abgeschlossen.
URL:https://landfrauen-pfalz.de/fussgoenheim/veranstaltung/betriebsfuehrung-glaeserner-globus/2026-06-17/
LOCATION:Supermarkt Globus\, Oderstraße 6\, Ludwigshafen\, Rheinland-Pfalz\, 67071\, Germany
CATEGORIES:Betriebsbesichtigung
ATTACH;FMTTYPE=image/jpeg:https://landfrauen-pfalz.de/fussgoenheim/wp-content/uploads/sites/108/2026/04/IMG_8894.jpeg
END:VEVENT
END:VCALENDAR